BEGIN:VCALENDAR
VERSION:2.0
PRODID:Moto Clube de Valença - 4.ª Edição da Bênção dos Capacetes 20
 26
X-WR-CALNAME:Moto Clube de Valença - 4.ª Edição da Bênção dos Capace
 tes 2026
X-WR-TIMEZONE:Europe/Lisbon
X-PUBLISHED-TTL:P1W
BEGIN:VTIMEZONE
TZID:Europe/Lisbon
X-LIC-LOCATION:Europe/Lisbon
END:VTIMEZONE
BEGIN:VEVENT
UID:69eabe02f2e39
DTSTART;VALUE=DATE:20260412
SEQUENCE:0
TRANSP:OPAQUE
DTEND;VALUE=DATE:20260413
SUMMARY:Moto Clube de Valença - 4.ª Edição da Bênção dos Capacetes 2
 026
CLASS:PUBLIC
DESCRIPTION:Monte do Faro - Valença
X-MICROSOFT-CDO-ALLDAYEVENT:TRUE
DTSTAMP:20260424T004906Z
END:VEVENT
END:VCALENDAR