BEGIN:VCALENDAR
VERSION:2.0
PRODID:Feira do Livro de Valença
X-WR-CALNAME:Feira do Livro de Valença
X-WR-TIMEZONE:Europe/Lisbon
X-PUBLISHED-TTL:P1W
BEGIN:VTIMEZONE
TZID:Europe/Lisbon
X-LIC-LOCATION:Europe/Lisbon
END:VTIMEZONE
BEGIN:VEVENT
UID:69e8d57d846ce
DTSTART;VALUE=DATE:20260421
SEQUENCE:0
TRANSP:OPAQUE
DTEND;VALUE=DATE:20260422
SUMMARY:Feira do Livro de Valença
CLASS:PUBLIC
X-MICROSOFT-CDO-ALLDAYEVENT:TRUE
DTSTAMP:20260422T140445Z
END:VEVENT
END:VCALENDAR