BEGIN:VCALENDAR
VERSION:2.0
PRODID:Saúde N'Aldeia - Consultas Médicas Gratuitas
X-WR-CALNAME:Saúde N'Aldeia - Consultas Médicas Gratuitas
X-WR-TIMEZONE:Europe/Lisbon
X-PUBLISHED-TTL:P1W
BEGIN:VTIMEZONE
TZID:Europe/Lisbon
X-LIC-LOCATION:Europe/Lisbon
END:VTIMEZONE
BEGIN:VEVENT
UID:69e50a6141186
DTSTART;VALUE=DATE:20260403
SEQUENCE:0
TRANSP:OPAQUE
DTEND;VALUE=DATE:20260404
SUMMARY:Saúde N'Aldeia - Consultas Médicas Gratuitas
CLASS:PUBLIC
DESCRIPTION:Local: Junta de Freguesia de Cristelo-CôvoDia: 03/04/2026Horá
 rio: 16:30 - 18:30Pré-Agendamento: Ligue 251818080
X-MICROSOFT-CDO-ALLDAYEVENT:TRUE
DTSTAMP:20260419T170121Z
END:VEVENT
END:VCALENDAR