BEGIN:VCALENDAR
VERSION:2.0
PRODID:I Encontro de Filarmónicas Juvenis
X-WR-CALNAME:I Encontro de Filarmónicas Juvenis
X-WR-TIMEZONE:Europe/Lisbon
X-PUBLISHED-TTL:P1W
BEGIN:VTIMEZONE
TZID:Europe/Lisbon
X-LIC-LOCATION:Europe/Lisbon
END:VTIMEZONE
BEGIN:VEVENT
UID:69e50a6d85c87
DTSTART;VALUE=DATE:20260411
SEQUENCE:0
TRANSP:OPAQUE
DTEND;VALUE=DATE:20260412
SUMMARY:I Encontro de Filarmónicas Juvenis
CLASS:PUBLIC
DESCRIPTION:Organização: AMFV -&nbsp\;Academia de Música da Fortaleza de
  ValençaMais informações\, visite&nbsp\;www.amfv.pt
X-MICROSOFT-CDO-ALLDAYEVENT:TRUE
DTSTAMP:20260419T170133Z
END:VEVENT
END:VCALENDAR