BEGIN:VCALENDAR
VERSION:2.0
PRODID:Espetáculo de teatro \"Anda\, Vem\" no Auditório ESCE-IPVC
X-WR-CALNAME:Espetáculo de teatro \"Anda\, Vem\" no Auditório ESCE-IPVC
X-WR-TIMEZONE:Europe/Lisbon
X-PUBLISHED-TTL:P1W
BEGIN:VTIMEZONE
TZID:Europe/Lisbon
X-LIC-LOCATION:Europe/Lisbon
END:VTIMEZONE
BEGIN:VEVENT
UID:69e50a673d7c0
DTSTART;VALUE=DATE:20260313
SEQUENCE:0
TRANSP:OPAQUE
DTEND;VALUE=DATE:20260314
SUMMARY:Espetáculo de teatro \"Anda\, Vem\" no Auditório ESCE-IPVC
CLASS:PUBLIC
DESCRIPTION:Valença13 a 15 de Março13 de Março – Auditório ESCE-IPVC\
 , Valença | 21h3014 de Março – Centro Cultura\, Verdoejo | 21h3015 de 
 Março – Sede do Rancho\, Cerdal | 15h00Mais informações em\, www.com
 ediasdominho.com
X-MICROSOFT-CDO-ALLDAYEVENT:TRUE
DTSTAMP:20260419T170127Z
END:VEVENT
END:VCALENDAR