BEGIN:VCALENDAR
VERSION:2.0
PRODID:Semana Santa
X-WR-CALNAME:Semana Santa
X-WR-TIMEZONE:Europe/Lisbon
X-PUBLISHED-TTL:P1W
BEGIN:VTIMEZONE
TZID:Europe/Lisbon
X-LIC-LOCATION:Europe/Lisbon
END:VTIMEZONE
BEGIN:VEVENT
UID:69e50a61df72b
DTSTART;VALUE=DATE:20260316
SEQUENCE:0
TRANSP:OPAQUE
DTEND;VALUE=DATE:20260317
SUMMARY:Semana Santa
CLASS:PUBLIC
DESCRIPTION:Programa da Semana Santa de Valença:22 marçoPROCISSÃO SENHOR
  DOS PASSOSAcompanhada pela Associação musical de S. Pedro da Torre16h00
  Igreja St° Estêvão29 marçoBÊNÇÃO DOS RAMOS11h00  Igreja de Bom Jes
 us - Seguida de Procissão e Eucaristia na Igreja St° Estêvão1 abrilVIA
  SACRA21h30 Igreja St° Estêvão2 abrilEUCARISTIA COM LAVA PÉS21h30 Igre
 ja St° Estêvão3 abrilSexta-feira da Paixão do SenhorORAÇÃO DE NOA15h
 00 Igreja St° EstêvãoNARRAÇÃO DA PAIXÃO\, ADORAÇÃO DA CRUZ21h00 Ig
 reja St° EstêvãoPROCISSÃO ENTERRO DO SENHOR E CANTO DA VERÓNICA22h00 
 Igreja St° Estêvão4 abrilEXPOSIÇÃO SENHOR DO TÚMULODurante todo o di
 aVIGÍLIA PASCAL22h00 Igreja St° Estêvão5 abrilSAÍDA DO COMPASSO PASCA
 L09h306 abrilLANÇO DA CRUZ16h00 Cristelo CovoOrg. Comissão Festas N° Sr
 ° da Cabeça
X-MICROSOFT-CDO-ALLDAYEVENT:TRUE
DTSTAMP:20260419T170121Z
END:VEVENT
END:VCALENDAR