BEGIN:VCALENDAR
VERSION:2.0
PRODID:Carnaval nos Bombeiros de Valença
X-WR-CALNAME:Carnaval nos Bombeiros de Valença
X-WR-TIMEZONE:Europe/Lisbon
X-PUBLISHED-TTL:P1W
BEGIN:VTIMEZONE
TZID:Europe/Lisbon
X-LIC-LOCATION:Europe/Lisbon
END:VTIMEZONE
BEGIN:VEVENT
UID:69e50a66b6f85
DTSTART;VALUE=DATE:20260217
SEQUENCE:0
TRANSP:OPAQUE
DTEND;VALUE=DATE:20260218
SUMMARY:Carnaval nos Bombeiros de Valença
CLASS:PUBLIC
DESCRIPTION:Dia 17/02/2026\, pelas 15:00 horas.Entrada Livre!
X-MICROSOFT-CDO-ALLDAYEVENT:TRUE
DTSTAMP:20260419T170126Z
END:VEVENT
END:VCALENDAR