BEGIN:VCALENDAR
VERSION:2.0
PRODID:Feriado Municipal de Valença 
X-WR-CALNAME:Feriado Municipal de Valença 
X-WR-TIMEZONE:Europe/Lisbon
X-PUBLISHED-TTL:P1W
BEGIN:VTIMEZONE
TZID:Europe/Lisbon
X-LIC-LOCATION:Europe/Lisbon
END:VTIMEZONE
BEGIN:VEVENT
UID:69e50a6175423
DTSTART;VALUE=DATE:20260218
SEQUENCE:0
TRANSP:OPAQUE
DTEND;VALUE=DATE:20260219
SUMMARY:Feriado Municipal de Valença 
CLASS:PUBLIC
DESCRIPTION:em Honra de S. Teotónio
X-MICROSOFT-CDO-ALLDAYEVENT:TRUE
DTSTAMP:20260419T170121Z
END:VEVENT
END:VCALENDAR