BEGIN:VCALENDAR
VERSION:2.0
PRODID:Colóquio Pedido Único de Ajudas - PU 2026
X-WR-CALNAME:Colóquio Pedido Único de Ajudas - PU 2026
X-WR-TIMEZONE:Europe/Lisbon
X-PUBLISHED-TTL:P1W
BEGIN:VTIMEZONE
TZID:Europe/Lisbon
X-LIC-LOCATION:Europe/Lisbon
END:VTIMEZONE
BEGIN:VEVENT
UID:69e50a66e83cf
DTSTART;VALUE=DATE:20260318
SEQUENCE:0
TRANSP:OPAQUE
DTEND;VALUE=DATE:20260319
SUMMARY:Colóquio Pedido Único de Ajudas - PU 2026
CLASS:PUBLIC
DESCRIPTION:Local: Biblioteca Municipal de ValençaData: 18 de março de 20
 26.Hora: 17:00Sessão de esclarecimento dedicada ao Pedido Único de Ajuda
 s\, um momento importante para quem pretende candidatar-se aos apoios agr
 ícolas disponíveis.Mais informações\,&nbsp\;cm-valenca.pt
X-MICROSOFT-CDO-ALLDAYEVENT:TRUE
DTSTAMP:20260419T170126Z
END:VEVENT
END:VCALENDAR