BEGIN:VCALENDAR
VERSION:2.0
PRODID:Arroz de Sarrabulho - Junta de Freguesia de Arão
X-WR-CALNAME:Arroz de Sarrabulho - Junta de Freguesia de Arão
X-WR-TIMEZONE:Europe/Lisbon
X-PUBLISHED-TTL:P1W
BEGIN:VTIMEZONE
TZID:Europe/Lisbon
X-LIC-LOCATION:Europe/Lisbon
END:VTIMEZONE
BEGIN:VEVENT
UID:69e50a1084dcb
DTSTART;VALUE=DATE:20260222
SEQUENCE:0
TRANSP:OPAQUE
DTEND;VALUE=DATE:20260223
SUMMARY:Arroz de Sarrabulho - Junta de Freguesia de Arão
CLASS:PUBLIC
DESCRIPTION:Local: Junta de Freguesia de ArãoData: 22/02/2026Hora: 13h00Re
 servas até 20 de fevereiroZé Santos - 919 020 345Zé Pedro - 968 843 905
X-MICROSOFT-CDO-ALLDAYEVENT:TRUE
DTSTAMP:20260419T170000Z
END:VEVENT
END:VCALENDAR