BEGIN:VCALENDAR
VERSION:2.0
PRODID:3º Aniversário Motoclube de Valença - Encontro de Motards
X-WR-CALNAME:3º Aniversário Motoclube de Valença - Encontro de Motards
X-WR-TIMEZONE:Europe/Lisbon
X-PUBLISHED-TTL:P1W
BEGIN:VTIMEZONE
TZID:Europe/Lisbon
X-LIC-LOCATION:Europe/Lisbon
END:VTIMEZONE
BEGIN:VEVENT
UID:69e50a1051b24
DTSTART;VALUE=DATE:20260222
SEQUENCE:0
TRANSP:OPAQUE
DTEND;VALUE=DATE:20260223
SUMMARY:3º Aniversário Motoclube de Valença - Encontro de Motards
CLASS:PUBLIC
DESCRIPTION:Vêm passar bons momentos entre amigos e motos...!
X-MICROSOFT-CDO-ALLDAYEVENT:TRUE
DTSTAMP:20260419T170000Z
END:VEVENT
END:VCALENDAR