BEGIN:VCALENDAR
VERSION:2.0
PRODID:XIIº Torneio de Mini Basket
X-WR-CALNAME:XIIº Torneio de Mini Basket
X-WR-TIMEZONE:Europe/Lisbon
X-PUBLISHED-TTL:P1W
BEGIN:VTIMEZONE
TZID:Europe/Lisbon
X-LIC-LOCATION:Europe/Lisbon
END:VTIMEZONE
BEGIN:VEVENT
UID:69e50a6d5222a
DTSTART;VALUE=DATE:20260328
SEQUENCE:0
TRANSP:OPAQUE
DTEND;VALUE=DATE:20260329
SUMMARY:XIIº Torneio de Mini Basket
CLASS:PUBLIC
DESCRIPTION:XIIº Torneio de Mini Basket
X-MICROSOFT-CDO-ALLDAYEVENT:TRUE
DTSTAMP:20260419T170133Z
END:VEVENT
END:VCALENDAR